BEGIN:VCALENDAR
VERSION:2.0
PRODID:-//Greater Alliance Foundation - ECPv6.15.20//NONSGML v1.0//EN
CALSCALE:GREGORIAN
METHOD:PUBLISH
X-ORIGINAL-URL:https://greateralliancefoundation.org
X-WR-CALDESC:Events for Greater Alliance Foundation
REFRESH-INTERVAL;VALUE=DURATION:PT1H
X-Robots-Tag:noindex
X-PUBLISHED-TTL:PT1H
BEGIN:VTIMEZONE
TZID:America/New_York
BEGIN:DAYLIGHT
TZOFFSETFROM:-0500
TZOFFSETTO:-0400
TZNAME:EDT
DTSTART:20250309T070000
END:DAYLIGHT
BEGIN:STANDARD
TZOFFSETFROM:-0400
TZOFFSETTO:-0500
TZNAME:EST
DTSTART:20251102T060000
END:STANDARD
BEGIN:DAYLIGHT
TZOFFSETFROM:-0500
TZOFFSETTO:-0400
TZNAME:EDT
DTSTART:20260308T070000
END:DAYLIGHT
BEGIN:STANDARD
TZOFFSETFROM:-0400
TZOFFSETTO:-0500
TZNAME:EST
DTSTART:20261101T060000
END:STANDARD
BEGIN:DAYLIGHT
TZOFFSETFROM:-0500
TZOFFSETTO:-0400
TZNAME:EDT
DTSTART:20270314T070000
END:DAYLIGHT
BEGIN:STANDARD
TZOFFSETFROM:-0400
TZOFFSETTO:-0500
TZNAME:EST
DTSTART:20271107T060000
END:STANDARD
END:VTIMEZONE
BEGIN:VEVENT
DTSTART;TZID=America/New_York:20260601T080000
DTEND;TZID=America/New_York:20260601T110000
DTSTAMP:20260421T154448
CREATED:20260420T193103Z
LAST-MODIFIED:20260420T193103Z
UID:10002313-1780300800-1780311600@greateralliancefoundation.org
SUMMARY:Marlington Boys Basketball Youth Camp
DESCRIPTION:This camp will be directed by Coach Nick Evanich and the Dukes Basketball Staff and Players. If you have any questions call Nick Evanich at (330) 821-4203 (school) or (330) 309-5045 (cell).\nComplete the registration form and mail to: Marlington Local Schools Attn: Nick Evanich 10320 Moulin Ave NE Alliance\, Ohio 44601.\nPlease Make Check Payable To: Marlington Boys Basketball
URL:https://greateralliancefoundation.org/event/marlington-boys-basketball-youth-camp/2026-06-01/
LOCATION:Marlington High School\, 10320 Moulin Ave NE\, Alliance\, OH\, 44601
CATEGORIES:Kids & Families,Sports
ATTACH;FMTTYPE=image/jpeg:https://greateralliancefoundation.org/wp-content/uploads/2026/04/Youth-Camp-Brochure-2026-Google-Docs-1.jpg
END:VEVENT
BEGIN:VEVENT
DTSTART;TZID=America/New_York:20260602T080000
DTEND;TZID=America/New_York:20260602T110000
DTSTAMP:20260421T154448
CREATED:20260420T193103Z
LAST-MODIFIED:20260420T193103Z
UID:10002314-1780387200-1780398000@greateralliancefoundation.org
SUMMARY:Marlington Boys Basketball Youth Camp
DESCRIPTION:This camp will be directed by Coach Nick Evanich and the Dukes Basketball Staff and Players. If you have any questions call Nick Evanich at (330) 821-4203 (school) or (330) 309-5045 (cell).\nComplete the registration form and mail to: Marlington Local Schools Attn: Nick Evanich 10320 Moulin Ave NE Alliance\, Ohio 44601.\nPlease Make Check Payable To: Marlington Boys Basketball
URL:https://greateralliancefoundation.org/event/marlington-boys-basketball-youth-camp/2026-06-02/
LOCATION:Marlington High School\, 10320 Moulin Ave NE\, Alliance\, OH\, 44601
CATEGORIES:Kids & Families,Sports
ATTACH;FMTTYPE=image/jpeg:https://greateralliancefoundation.org/wp-content/uploads/2026/04/Youth-Camp-Brochure-2026-Google-Docs-1.jpg
END:VEVENT
BEGIN:VEVENT
DTSTART;TZID=America/New_York:20260603T080000
DTEND;TZID=America/New_York:20260603T110000
DTSTAMP:20260421T154448
CREATED:20260420T193103Z
LAST-MODIFIED:20260420T193103Z
UID:10002315-1780473600-1780484400@greateralliancefoundation.org
SUMMARY:Marlington Boys Basketball Youth Camp
DESCRIPTION:This camp will be directed by Coach Nick Evanich and the Dukes Basketball Staff and Players. If you have any questions call Nick Evanich at (330) 821-4203 (school) or (330) 309-5045 (cell).\nComplete the registration form and mail to: Marlington Local Schools Attn: Nick Evanich 10320 Moulin Ave NE Alliance\, Ohio 44601.\nPlease Make Check Payable To: Marlington Boys Basketball
URL:https://greateralliancefoundation.org/event/marlington-boys-basketball-youth-camp/2026-06-03/
LOCATION:Marlington High School\, 10320 Moulin Ave NE\, Alliance\, OH\, 44601
CATEGORIES:Kids & Families,Sports
ATTACH;FMTTYPE=image/jpeg:https://greateralliancefoundation.org/wp-content/uploads/2026/04/Youth-Camp-Brochure-2026-Google-Docs-1.jpg
END:VEVENT
BEGIN:VEVENT
DTSTART;TZID=America/New_York:20260603T180000
DTEND;TZID=America/New_York:20260603T193000
DTSTAMP:20260421T154448
CREATED:20260417T132714Z
LAST-MODIFIED:20260417T132714Z
UID:10002312-1780509600-1780515000@greateralliancefoundation.org
SUMMARY:Alliance Friends Tennis Camp
DESCRIPTION:Join us on Wednesday June 3rd at 6pm at Alliance Country Club for a tennis camp with skills and drills for boys and girls entering Grades K-5 during the 2026 School year!
URL:https://greateralliancefoundation.org/event/alliance-friends-tennis-camp/
LOCATION:Alliance Country Club\, 725 E Milton Street\, Alliance\, OH\, 44601\, United States
CATEGORIES:Sports
ATTACH;FMTTYPE=image/png:https://greateralliancefoundation.org/wp-content/uploads/2026/04/Tennis-Graphic-1.png
END:VEVENT
BEGIN:VEVENT
DTSTART;TZID=America/New_York:20260604T080000
DTEND;TZID=America/New_York:20260604T110000
DTSTAMP:20260421T154448
CREATED:20260420T193103Z
LAST-MODIFIED:20260420T193103Z
UID:10002316-1780560000-1780570800@greateralliancefoundation.org
SUMMARY:Marlington Boys Basketball Youth Camp
DESCRIPTION:This camp will be directed by Coach Nick Evanich and the Dukes Basketball Staff and Players. If you have any questions call Nick Evanich at (330) 821-4203 (school) or (330) 309-5045 (cell).\nComplete the registration form and mail to: Marlington Local Schools Attn: Nick Evanich 10320 Moulin Ave NE Alliance\, Ohio 44601.\nPlease Make Check Payable To: Marlington Boys Basketball
URL:https://greateralliancefoundation.org/event/marlington-boys-basketball-youth-camp/2026-06-04/
LOCATION:Marlington High School\, 10320 Moulin Ave NE\, Alliance\, OH\, 44601
CATEGORIES:Kids & Families,Sports
ATTACH;FMTTYPE=image/jpeg:https://greateralliancefoundation.org/wp-content/uploads/2026/04/Youth-Camp-Brochure-2026-Google-Docs-1.jpg
END:VEVENT
BEGIN:VEVENT
DTSTART;TZID=America/New_York:20260608T090000
DTEND;TZID=America/New_York:20260608T120000
DTSTAMP:20260421T154448
CREATED:20260421T141600Z
LAST-MODIFIED:20260421T141600Z
UID:10002318-1780909200-1780920000@greateralliancefoundation.org
SUMMARY:Marlington Baseball Summer Skills Camp
DESCRIPTION:Camp will be held rain or shine.\n* Marlington Diamond Dukes coaching staff & current players\n* Cost = $20 (EVERY CAMPER WILL GET A T-SHIRT)\n* Open to all Marlington Local Schools Students grades K-8\nPLEASE CONTACT COACH JONES WITH ANY ADDITIONAL QUESTIONS\nc_jones@marlingtonlocal.org
URL:https://greateralliancefoundation.org/event/marlington-baseball-summer-skills-camp/2026-06-08/
LOCATION:Marlington High School\, 10320 Moulin Ave NE\, Alliance\, OH\, 44601
CATEGORIES:Sports
ATTACH;FMTTYPE=image/png:https://greateralliancefoundation.org/wp-content/uploads/2026/04/Diamond-Dukes-Summer-2026.png
END:VEVENT
BEGIN:VEVENT
DTSTART;TZID=America/New_York:20260609T090000
DTEND;TZID=America/New_York:20260609T120000
DTSTAMP:20260421T154448
CREATED:20260421T141600Z
LAST-MODIFIED:20260421T141600Z
UID:10002319-1780995600-1781006400@greateralliancefoundation.org
SUMMARY:Marlington Baseball Summer Skills Camp
DESCRIPTION:Camp will be held rain or shine.\n* Marlington Diamond Dukes coaching staff & current players\n* Cost = $20 (EVERY CAMPER WILL GET A T-SHIRT)\n* Open to all Marlington Local Schools Students grades K-8\nPLEASE CONTACT COACH JONES WITH ANY ADDITIONAL QUESTIONS\nc_jones@marlingtonlocal.org
URL:https://greateralliancefoundation.org/event/marlington-baseball-summer-skills-camp/2026-06-09/
LOCATION:Marlington High School\, 10320 Moulin Ave NE\, Alliance\, OH\, 44601
CATEGORIES:Sports
ATTACH;FMTTYPE=image/png:https://greateralliancefoundation.org/wp-content/uploads/2026/04/Diamond-Dukes-Summer-2026.png
END:VEVENT
END:VCALENDAR