BEGIN:VCALENDAR
VERSION:2.0
PRODID:-//Greater Alliance Foundation - ECPv6.15.20//NONSGML v1.0//EN
CALSCALE:GREGORIAN
METHOD:PUBLISH
X-WR-CALNAME:Greater Alliance Foundation
X-ORIGINAL-URL:https://greateralliancefoundation.org
X-WR-CALDESC:Events for Greater Alliance Foundation
REFRESH-INTERVAL;VALUE=DURATION:PT1H
X-Robots-Tag:noindex
X-PUBLISHED-TTL:PT1H
BEGIN:VTIMEZONE
TZID:America/New_York
BEGIN:DAYLIGHT
TZOFFSETFROM:-0500
TZOFFSETTO:-0400
TZNAME:EDT
DTSTART:20250309T070000
END:DAYLIGHT
BEGIN:STANDARD
TZOFFSETFROM:-0400
TZOFFSETTO:-0500
TZNAME:EST
DTSTART:20251102T060000
END:STANDARD
BEGIN:DAYLIGHT
TZOFFSETFROM:-0500
TZOFFSETTO:-0400
TZNAME:EDT
DTSTART:20260308T070000
END:DAYLIGHT
BEGIN:STANDARD
TZOFFSETFROM:-0400
TZOFFSETTO:-0500
TZNAME:EST
DTSTART:20261101T060000
END:STANDARD
BEGIN:DAYLIGHT
TZOFFSETFROM:-0500
TZOFFSETTO:-0400
TZNAME:EDT
DTSTART:20270314T070000
END:DAYLIGHT
BEGIN:STANDARD
TZOFFSETFROM:-0400
TZOFFSETTO:-0500
TZNAME:EST
DTSTART:20271107T060000
END:STANDARD
END:VTIMEZONE
BEGIN:VEVENT
DTSTART;TZID=America/New_York:20260608T090000
DTEND;TZID=America/New_York:20260608T120000
DTSTAMP:20260421T143013
CREATED:20260421T141600Z
LAST-MODIFIED:20260421T141600Z
UID:10002318-1780909200-1780920000@greateralliancefoundation.org
SUMMARY:Marlington Baseball Summer Skills Camp
DESCRIPTION:Camp will be held rain or shine.\n* Marlington Diamond Dukes coaching staff & current players\n* Cost = $20 (EVERY CAMPER WILL GET A T-SHIRT)\n* Open to all Marlington Local Schools Students grades K-8\nPLEASE CONTACT COACH JONES WITH ANY ADDITIONAL QUESTIONS\nc_jones@marlingtonlocal.org
URL:https://greateralliancefoundation.org/event/marlington-baseball-summer-skills-camp/2026-06-08/
LOCATION:Marlington High School\, 10320 Moulin Ave NE\, Alliance\, OH\, 44601
CATEGORIES:Sports
ATTACH;FMTTYPE=image/png:https://greateralliancefoundation.org/wp-content/uploads/2026/04/Diamond-Dukes-Summer-2026.png
END:VEVENT
BEGIN:VEVENT
DTSTART;TZID=America/New_York:20260609T090000
DTEND;TZID=America/New_York:20260609T120000
DTSTAMP:20260421T143013
CREATED:20260421T141600Z
LAST-MODIFIED:20260421T141600Z
UID:10002319-1780995600-1781006400@greateralliancefoundation.org
SUMMARY:Marlington Baseball Summer Skills Camp
DESCRIPTION:Camp will be held rain or shine.\n* Marlington Diamond Dukes coaching staff & current players\n* Cost = $20 (EVERY CAMPER WILL GET A T-SHIRT)\n* Open to all Marlington Local Schools Students grades K-8\nPLEASE CONTACT COACH JONES WITH ANY ADDITIONAL QUESTIONS\nc_jones@marlingtonlocal.org
URL:https://greateralliancefoundation.org/event/marlington-baseball-summer-skills-camp/2026-06-09/
LOCATION:Marlington High School\, 10320 Moulin Ave NE\, Alliance\, OH\, 44601
CATEGORIES:Sports
ATTACH;FMTTYPE=image/png:https://greateralliancefoundation.org/wp-content/uploads/2026/04/Diamond-Dukes-Summer-2026.png
END:VEVENT
END:VCALENDAR